BEGIN:VCALENDAR
VERSION:2.0
PRODID:-//NAFEX - ECPv6.15.20//NONSGML v1.0//EN
CALSCALE:GREGORIAN
METHOD:PUBLISH
X-ORIGINAL-URL:https://nafex.org
X-WR-CALDESC:Events for NAFEX
REFRESH-INTERVAL;VALUE=DURATION:PT1H
X-Robots-Tag:noindex
X-PUBLISHED-TTL:PT1H
BEGIN:VTIMEZONE
TZID:America/New_York
BEGIN:DAYLIGHT
TZOFFSETFROM:-0500
TZOFFSETTO:-0400
TZNAME:EDT
DTSTART:20230312T070000
END:DAYLIGHT
BEGIN:STANDARD
TZOFFSETFROM:-0400
TZOFFSETTO:-0500
TZNAME:EST
DTSTART:20231105T060000
END:STANDARD
BEGIN:DAYLIGHT
TZOFFSETFROM:-0500
TZOFFSETTO:-0400
TZNAME:EDT
DTSTART:20240310T070000
END:DAYLIGHT
BEGIN:STANDARD
TZOFFSETFROM:-0400
TZOFFSETTO:-0500
TZNAME:EST
DTSTART:20241103T060000
END:STANDARD
BEGIN:DAYLIGHT
TZOFFSETFROM:-0500
TZOFFSETTO:-0400
TZNAME:EDT
DTSTART:20250309T070000
END:DAYLIGHT
BEGIN:STANDARD
TZOFFSETFROM:-0400
TZOFFSETTO:-0500
TZNAME:EST
DTSTART:20251102T060000
END:STANDARD
END:VTIMEZONE
BEGIN:VEVENT
DTSTART;TZID=America/New_York:20240430T193000
DTEND;TZID=America/New_York:20240430T210000
DTSTAMP:20260425T215713
CREATED:20240417T153103Z
LAST-MODIFIED:20240417T172703Z
UID:4689-1714505400-1714510800@nafex.org
SUMMARY:Cicada and Lanternfly - A Virtual Interest Group Meeting
DESCRIPTION:Are you worried about your fruit trees and the billions of cicadas that are about to emerge? Perhaps invasive lantern flies have started to make their way to your area and pose more of a threat? Join us as Douglas Pfeiffer Ph.D. of Virginia Tech discusses how to deal with these pest pressures and provides tips to safeguard your own trees. \nThe meeting will be held on ZOOM and by phone from 6:30 p.m. to 8 p.m. Central time. This virtual NAFEX Interest Group meeting is FREE with your $19 NAFEX membership. Find the ZOOM link and call-in numbers in your inbox or on our member Interest Group page. Plan to join us! \nNot a member yet? Join for $19/yr and get access to this ZOOM meetup and all past recorded meetings and conference settings! www.nafex.org
URL:https://nafex.org/index.php/event/cicada-and-lanternfly-a-virtual-interest-group-meeting-2/
LOCATION:ZOOM
CATEGORIES:Fruit Interest Group Meetings
ATTACH;FMTTYPE=image/png:https://nafex.org/wp-content/uploads/2024/04/Cicada-Lanternfly-IG-Square-.png
END:VEVENT
END:VCALENDAR