BEGIN:VCALENDAR
VERSION:2.0
PRODID:-//NAFEX - ECPv6.15.20//NONSGML v1.0//EN
CALSCALE:GREGORIAN
METHOD:PUBLISH
X-ORIGINAL-URL:https://nafex.org
X-WR-CALDESC:Events for NAFEX
REFRESH-INTERVAL;VALUE=DURATION:PT1H
X-Robots-Tag:noindex
X-PUBLISHED-TTL:PT1H
BEGIN:VTIMEZONE
TZID:America/New_York
BEGIN:DAYLIGHT
TZOFFSETFROM:-0500
TZOFFSETTO:-0400
TZNAME:EDT
DTSTART:20210314T070000
END:DAYLIGHT
BEGIN:STANDARD
TZOFFSETFROM:-0400
TZOFFSETTO:-0500
TZNAME:EST
DTSTART:20211107T060000
END:STANDARD
BEGIN:DAYLIGHT
TZOFFSETFROM:-0500
TZOFFSETTO:-0400
TZNAME:EDT
DTSTART:20220313T070000
END:DAYLIGHT
BEGIN:STANDARD
TZOFFSETFROM:-0400
TZOFFSETTO:-0500
TZNAME:EST
DTSTART:20221106T060000
END:STANDARD
BEGIN:DAYLIGHT
TZOFFSETFROM:-0500
TZOFFSETTO:-0400
TZNAME:EDT
DTSTART:20230312T070000
END:DAYLIGHT
BEGIN:STANDARD
TZOFFSETFROM:-0400
TZOFFSETTO:-0500
TZNAME:EST
DTSTART:20231105T060000
END:STANDARD
END:VTIMEZONE
BEGIN:VEVENT
DTSTART;TZID=America/New_York:20220720T193000
DTEND;TZID=America/New_York:20220720T210000
DTSTAMP:20260423T182207
CREATED:20220714T123403Z
LAST-MODIFIED:20220715T140027Z
UID:3107-1658345400-1658350800@nafex.org
SUMMARY:Fruit Growers Virtual Happy Hour
DESCRIPTION:Join the North American Fruit Explorers for a special Virtual Happy Hour for fruit growers\, Wednesday\, July 20\, at 6:30 PM CST. \nIt’s hot and the bugs and diseases are keeping us up at night\, so let’s take a break\, drink something cold and connect with fellow fruit growers! \nPreview the New Fruit Tree Pedigree Explorer \nNAFEX member Eric Bina has developed an exciting visual tool for representing the parentage and pedigree of various fruit trees utilizing the extensive SNP DNA database and other publicly available data sources. \nEric has created two databases to date\, one for apples and another for pears\, which he’ll preview on ZOOM. \nWhat are You Growing and How is it Going? \nWe’ll also share what’s happening in our orchards\, farms and gardens\, talk about the challenges of this summer’s weather\, and share fruit growing successes and epic (but relatable) failures. \nThe meeting will start on ZOOM or by phone at 4:30 p.m. PDT / 5:30 p.m. MDT / 6:30 p.m. CDT / 7:30 p.m. EDT. \nBring your favorite beverage and a story to share! \nFree with your NAFEX membership \nThis forum is FREE with your $19 annual membership. NAFEX members will automatically receive an email invitation with the ZOOM link and call-in information before the event. \nNot yet a member? Join NAFEX today and find the ZOOM link and call-in numbers on our Interest Groups page on the day of the event.
URL:https://nafex.org/index.php/event/summer-virtual-happy-hour/
LOCATION:ZOOM
CATEGORIES:Fruit Interest Group Meetings,Virtual Happy Hour
ATTACH;FMTTYPE=image/png:https://nafex.org/wp-content/uploads/2022/07/Virtual-Happy-Hour-Pink-800-×-800-px.png
END:VEVENT
END:VCALENDAR