BEGIN:VCALENDAR
VERSION:2.0
PRODID:-//NAFEX - ECPv6.15.20//NONSGML v1.0//EN
CALSCALE:GREGORIAN
METHOD:PUBLISH
X-WR-CALNAME:NAFEX
X-ORIGINAL-URL:https://nafex.org
X-WR-CALDESC:Events for NAFEX
REFRESH-INTERVAL;VALUE=DURATION:PT1H
X-Robots-Tag:noindex
X-PUBLISHED-TTL:PT1H
BEGIN:VTIMEZONE
TZID:America/Indiana/Indianapolis
BEGIN:DAYLIGHT
TZOFFSETFROM:-0500
TZOFFSETTO:-0400
TZNAME:EDT
DTSTART:20230312T070000
END:DAYLIGHT
BEGIN:STANDARD
TZOFFSETFROM:-0400
TZOFFSETTO:-0500
TZNAME:EST
DTSTART:20231105T060000
END:STANDARD
BEGIN:DAYLIGHT
TZOFFSETFROM:-0500
TZOFFSETTO:-0400
TZNAME:EDT
DTSTART:20240310T070000
END:DAYLIGHT
BEGIN:STANDARD
TZOFFSETFROM:-0400
TZOFFSETTO:-0500
TZNAME:EST
DTSTART:20241103T060000
END:STANDARD
BEGIN:DAYLIGHT
TZOFFSETFROM:-0500
TZOFFSETTO:-0400
TZNAME:EDT
DTSTART:20250309T070000
END:DAYLIGHT
BEGIN:STANDARD
TZOFFSETFROM:-0400
TZOFFSETTO:-0500
TZNAME:EST
DTSTART:20251102T060000
END:STANDARD
END:VTIMEZONE
BEGIN:VEVENT
DTSTART;TZID=America/Indiana/Indianapolis:20241107T183000
DTEND;TZID=America/Indiana/Indianapolis:20241107T200000
DTSTAMP:20260425T081100
CREATED:20241029T013851Z
LAST-MODIFIED:20241029T013851Z
UID:4943-1731004200-1731009600@nafex.org
SUMMARY:No Land\, No Problem. Growing with minimal space - NAFEX 2024 Virtual Conference\, Session 2
DESCRIPTION:Do you want to grow some of your own food but have a small yard? This session will show you how to do that successfully. Author Lee Reich will cover proven techniques for growing abundant crops in a small footprint. \nThis session will also be of interest for growers with an interest in shaping their trees into beautiful and elaborate shapes.\nLee’s session will include oblique cordon & espalier techniques\, as well as European-style and backyard growing. And\, an audience favorite\, Lee will discuss methods for growing a delicious variety of figs. \n— \nThis interactive webinar is part of the North American Fruit Explorers (NAFEX) 2024 Virtual Conference\, featuring three days of inspiring and informative online sessions for fruit growers\, November 7-9\, via ZOOM or by phone. Participate and ask questions in real time or watch the recorded sessions later. \nThe conference is open to fruit growers of all experience levels and will feature 8 sessions and 10 speakers over 3 days. Plan to join us! \nConference Session Dates and Times \nThursday\, Nov. 7 at 5 p.m. and 6:30 p.m. Eastern\nFriday\, Nov. 8 at 11 a.m.\, 1:30 p.m.\, 4 p.m. and 6:30 p.m. Eastern\nSaturday\, Nov. 9 at 1:30 p.m. and 4 p.m. Eastern \nSpeakers and Session Topics \nCheck out the full lineup of speakers and topics on our conference webpage. \nRegistration and Cost \nMembers: This live conference (and recordings) is FREE for current NAFEX members. Members will receive email updates with conference notices and links. Not sure if your membership is current? Check the status of your NAFEX membership here. \nNon-members: The conference is only $19 and you’ll receive full conference access plus full member benefits for one year! We invite you to join today.
URL:https://nafex.org/index.php/event/no-land-no-problem-growing-with-minimal-space-nafex-2024-virtual-conference-session-2/
LOCATION:ZOOM
CATEGORIES:Annual Meeting/Conference
ATTACH;FMTTYPE=image/png:https://nafex.org/wp-content/uploads/2024/10/Reich_NoLandNoProblem.png
END:VEVENT
END:VCALENDAR