BEGIN:VCALENDAR
VERSION:2.0
PRODID:-//NAFEX - ECPv6.15.20//NONSGML v1.0//EN
CALSCALE:GREGORIAN
METHOD:PUBLISH
X-ORIGINAL-URL:https://nafex.org
X-WR-CALDESC:Events for NAFEX
REFRESH-INTERVAL;VALUE=DURATION:PT1H
X-Robots-Tag:noindex
X-PUBLISHED-TTL:PT1H
BEGIN:VTIMEZONE
TZID:America/Indiana/Indianapolis
BEGIN:DAYLIGHT
TZOFFSETFROM:-0500
TZOFFSETTO:-0400
TZNAME:EDT
DTSTART:20230312T070000
END:DAYLIGHT
BEGIN:STANDARD
TZOFFSETFROM:-0400
TZOFFSETTO:-0500
TZNAME:EST
DTSTART:20231105T060000
END:STANDARD
BEGIN:DAYLIGHT
TZOFFSETFROM:-0500
TZOFFSETTO:-0400
TZNAME:EDT
DTSTART:20240310T070000
END:DAYLIGHT
BEGIN:STANDARD
TZOFFSETFROM:-0400
TZOFFSETTO:-0500
TZNAME:EST
DTSTART:20241103T060000
END:STANDARD
BEGIN:DAYLIGHT
TZOFFSETFROM:-0500
TZOFFSETTO:-0400
TZNAME:EDT
DTSTART:20250309T070000
END:DAYLIGHT
BEGIN:STANDARD
TZOFFSETFROM:-0400
TZOFFSETTO:-0500
TZNAME:EST
DTSTART:20251102T060000
END:STANDARD
END:VTIMEZONE
BEGIN:VEVENT
DTSTART;TZID=America/Indiana/Indianapolis:20241109T160000
DTEND;TZID=America/Indiana/Indianapolis:20241109T173000
DTSTAMP:20260426T001542
CREATED:20241029T010700Z
LAST-MODIFIED:20241029T012822Z
UID:4922-1731168000-1731173400@nafex.org
SUMMARY:2024 Virtual Conference Keynote - The Ecological Orchard\, Session 8
DESCRIPTION:Helen Atthowe’s no-till\, no-spray\, selective-weeding\, grow-your-own-fertilizer system for organic orchards that was developed & refined over 35 years while owning & operating (and co-operating with her late husband) on 3 certified organic orchards and vegetable farms ranging from 30-211 acres\, spanning 3 states. You won’t want to miss this talk. \n  \n— \nThis interactive webinar will be the closing keynote session of the North American Fruit Explorers (NAFEX) 2024 Virtual Conference\, featuring three days of inspiring and informative online sessions for fruit growers\, November 7-9\, via ZOOM or by phone. Participate and ask questions in real time or watch the recorded sessions later. \nThe conference is open to fruit growers of all experience levels and will feature 8 sessions and 10 speakers over 3 days. Plan to join us! \nConference Session Dates and Times \nThursday\, Nov. 7 at 5 p.m. and 6:30 p.m. Eastern\nFriday\, Nov. 8 at 11 a.m.\, 1:30 p.m.\, 4 p.m. and 6:30 p.m. Eastern\nSaturday\, Nov. 9 at 1:30 p.m. and 4 p.m. Eastern \nSpeakers and Session Topics \nCheck out the full lineup of speakers and topics on our conference webpage. \nRegistration and Cost \nMembers: This live conference (and recordings) is FREE for current NAFEX members. Members will receive email updates with conference notices and links. Not sure if your membership is current? Check the status of your NAFEX membership here. \nNon-members: The conference is only $19 and you’ll receive full conference access plus full member benefits for one year! We invite you to join today.
URL:https://nafex.org/index.php/event/2024-virtual-conference-keynote-the-ecological-orchard-session-8/
LOCATION:ZOOM
CATEGORIES:Annual Meeting/Conference
ATTACH;FMTTYPE=image/png:https://nafex.org/wp-content/uploads/2024/10/Atthowe_EcologicalOrchard.png
END:VEVENT
END:VCALENDAR