BEGIN:VCALENDAR
VERSION:2.0
PRODID:-//NAFEX - ECPv6.15.20//NONSGML v1.0//EN
CALSCALE:GREGORIAN
METHOD:PUBLISH
X-WR-CALNAME:NAFEX
X-ORIGINAL-URL:https://nafex.org
X-WR-CALDESC:Events for NAFEX
REFRESH-INTERVAL;VALUE=DURATION:PT1H
X-Robots-Tag:noindex
X-PUBLISHED-TTL:PT1H
BEGIN:VTIMEZONE
TZID:America/New_York
BEGIN:DAYLIGHT
TZOFFSETFROM:-0500
TZOFFSETTO:-0400
TZNAME:EDT
DTSTART:20240310T070000
END:DAYLIGHT
BEGIN:STANDARD
TZOFFSETFROM:-0400
TZOFFSETTO:-0500
TZNAME:EST
DTSTART:20241103T060000
END:STANDARD
BEGIN:DAYLIGHT
TZOFFSETFROM:-0500
TZOFFSETTO:-0400
TZNAME:EDT
DTSTART:20250309T070000
END:DAYLIGHT
BEGIN:STANDARD
TZOFFSETFROM:-0400
TZOFFSETTO:-0500
TZNAME:EST
DTSTART:20251102T060000
END:STANDARD
BEGIN:DAYLIGHT
TZOFFSETFROM:-0500
TZOFFSETTO:-0400
TZNAME:EDT
DTSTART:20260308T070000
END:DAYLIGHT
BEGIN:STANDARD
TZOFFSETFROM:-0400
TZOFFSETTO:-0500
TZNAME:EST
DTSTART:20261101T060000
END:STANDARD
END:VTIMEZONE
BEGIN:VEVENT
DTSTART;TZID=America/New_York:20250325T193000
DTEND;TZID=America/New_York:20250325T210000
DTSTAMP:20260424T111617
CREATED:20250321T150332Z
LAST-MODIFIED:20250321T150332Z
UID:5155-1742931000-1742936400@nafex.org
SUMMARY:Starting Your Own Small Nursery
DESCRIPTION:NAFEX member Larry Stephenson and owner of Southern Cultured Orchards and Nursery will be sharing the in’s and out’s of getting your own business going. Come with your questions for this very informative talk.  \nThe meeting will be held on ZOOM and by phone from 6:30 p.m. to 8 p.m. Central time. This virtual NAFEX Townhall Meetup is FREE with your $19 NAFEX membership. Find the ZOOM link and call-in numbers in your inbox or on our member Interest Group page. Plan to join us! \nNot a member yet? Join for $19/yr and get access to this ZOOM meetup and all past recorded meetings and conference settings! www.nafex.org
URL:https://nafex.org/index.php/event/starting-your-own-small-nursery/
LOCATION:ZOOM
CATEGORIES:Fruit Interest Group Meetings
ATTACH;FMTTYPE=image/png:https://nafex.org/wp-content/uploads/2025/03/Nursery-Biz-Facebook-Post-FB.png
END:VEVENT
BEGIN:VEVENT
DTSTART;TZID=America/New_York:20250429T193000
DTEND;TZID=America/New_York:20250429T193000
DTSTAMP:20260424T111617
CREATED:20250427T154215Z
LAST-MODIFIED:20250427T154215Z
UID:5183-1745955000-1745955000@nafex.org
SUMMARY:Cold Hardy Fig Production
DESCRIPTION:For our April Meetup NAFEX President\, Kris Heeter\, will be talking with us about a USDA-SARE Partnership research grant on cold-hardy fig production. \nKris will be sharing the details of a funded partnership that is studying a number of cold-hardy fig varieties in Zones 5 and 6\, planting techniques\, and winter protection to produce local fig production. Value-added products from these varieties will also be discussed. \nThe meeting will be held on ZOOM and by phone from 6:30 p.m. to 8 p.m. Central time. This virtual NAFEX Townhall Meetup is FREE with your $19 NAFEX membership. Find the ZOOM link and call-in numbers in your inbox or on our member Interest Group page. Plan to join us! \nNot a member yet? Join for $19/yr and get access to this ZOOM meetup and all past recorded meetings and conference settings! www.nafex.org
URL:https://nafex.org/index.php/event/cold-hardy-fig-production/
LOCATION:ZOOM
CATEGORIES:Fruit Interest Group Meetings
ATTACH;FMTTYPE=image/png:https://nafex.org/wp-content/uploads/2025/04/COLD-HARDY-FIG-Facebook-Post-FB.png
END:VEVENT
END:VCALENDAR