BEGIN:VCALENDAR
VERSION:2.0
PRODID:-//NAFEX - ECPv6.15.20//NONSGML v1.0//EN
CALSCALE:GREGORIAN
METHOD:PUBLISH
X-WR-CALNAME:NAFEX
X-ORIGINAL-URL:https://nafex.org
X-WR-CALDESC:Events for NAFEX
REFRESH-INTERVAL;VALUE=DURATION:PT1H
X-Robots-Tag:noindex
X-PUBLISHED-TTL:PT1H
BEGIN:VTIMEZONE
TZID:America/New_York
BEGIN:DAYLIGHT
TZOFFSETFROM:-0500
TZOFFSETTO:-0400
TZNAME:EDT
DTSTART:20250309T070000
END:DAYLIGHT
BEGIN:STANDARD
TZOFFSETFROM:-0400
TZOFFSETTO:-0500
TZNAME:EST
DTSTART:20251102T060000
END:STANDARD
BEGIN:DAYLIGHT
TZOFFSETFROM:-0500
TZOFFSETTO:-0400
TZNAME:EDT
DTSTART:20260308T070000
END:DAYLIGHT
BEGIN:STANDARD
TZOFFSETFROM:-0400
TZOFFSETTO:-0500
TZNAME:EST
DTSTART:20261101T060000
END:STANDARD
BEGIN:DAYLIGHT
TZOFFSETFROM:-0500
TZOFFSETTO:-0400
TZNAME:EDT
DTSTART:20270314T070000
END:DAYLIGHT
BEGIN:STANDARD
TZOFFSETFROM:-0400
TZOFFSETTO:-0500
TZNAME:EST
DTSTART:20271107T060000
END:STANDARD
END:VTIMEZONE
BEGIN:VEVENT
DTSTART;TZID=America/New_York:20260224T193000
DTEND;TZID=America/New_York:20260224T210000
DTSTAMP:20260423T145933
CREATED:20260215T020519Z
LAST-MODIFIED:20260215T020519Z
UID:5867-1771961400-1771966800@nafex.org
SUMMARY:Grow Your Own Grapes
DESCRIPTION:Have you ever thought about growing your own grapes but felt a little stuck on where to start? Join us on the evening of February 24th for a Zoom session with Alice Wise from the Cornell Cooperative Extension. She’s going to walk us through all the basics—from picking the right spot and the best varieties to tips on getting a great harvest and keeping those pesky pests away. It’s going to be a great informative evening so bring your questions!! \nThe meeting will be held on ZOOM and by phone from 6:30 p.m. to 8 p.m. Central time. This virtual NAFEX Townhall Meetup is FREE with your $19 NAFEX membership. Find the ZOOM link and call-in numbers in your inbox or on our member Interest Group page. Plan to join us! \nNot a member yet? Join for $19/yr and get access to this ZOOM meetup and all past recorded meetings and conference settings! www.nafex.org
URL:https://nafex.org/index.php/event/grow-your-own-grapes/
LOCATION:ZOOM
CATEGORIES:Fruit Interest Group Meetings
ATTACH;FMTTYPE=image/png:https://nafex.org/wp-content/uploads/2026/02/Grapes-Facebook-Post-FB.png
END:VEVENT
END:VCALENDAR