BEGIN:VCALENDAR
VERSION:2.0
PRODID:-//NAFEX - ECPv6.15.20//NONSGML v1.0//EN
CALSCALE:GREGORIAN
METHOD:PUBLISH
X-ORIGINAL-URL:https://nafex.org
X-WR-CALDESC:Events for NAFEX
REFRESH-INTERVAL;VALUE=DURATION:PT1H
X-Robots-Tag:noindex
X-PUBLISHED-TTL:PT1H
BEGIN:VTIMEZONE
TZID:America/New_York
BEGIN:DAYLIGHT
TZOFFSETFROM:-0500
TZOFFSETTO:-0400
TZNAME:EDT
DTSTART:20240310T070000
END:DAYLIGHT
BEGIN:STANDARD
TZOFFSETFROM:-0400
TZOFFSETTO:-0500
TZNAME:EST
DTSTART:20241103T060000
END:STANDARD
BEGIN:DAYLIGHT
TZOFFSETFROM:-0500
TZOFFSETTO:-0400
TZNAME:EDT
DTSTART:20250309T070000
END:DAYLIGHT
BEGIN:STANDARD
TZOFFSETFROM:-0400
TZOFFSETTO:-0500
TZNAME:EST
DTSTART:20251102T060000
END:STANDARD
BEGIN:DAYLIGHT
TZOFFSETFROM:-0500
TZOFFSETTO:-0400
TZNAME:EDT
DTSTART:20260308T070000
END:DAYLIGHT
BEGIN:STANDARD
TZOFFSETFROM:-0400
TZOFFSETTO:-0500
TZNAME:EST
DTSTART:20261101T060000
END:STANDARD
END:VTIMEZONE
BEGIN:VEVENT
DTSTART;TZID=America/New_York:20250624T193000
DTEND;TZID=America/New_York:20250624T193000
DTSTAMP:20260424T043519
CREATED:20250623T194051Z
LAST-MODIFIED:20250623T194134Z
UID:5217-1750793400-1750793400@nafex.org
SUMMARY:USDA Pomological Paintings: History and Uses
DESCRIPTION:Join us June 24th for an evening of discussion about the USDA Pomological Watercolors. NAFEX Board Members will discuss their history and usefulness beyond their aesthetic value. We will provide some tips on how to use the paintings to support your own fruit exploration efforts or just how to enjoy and understand these treasures. \nBetween 1886 and 1942\, USDA’s Division of Pomology commissioned artists to create illustrations of thousands of fruits and nuts. A historic botanical resource\, the Pomological Watercolor Collection\, which is housed at the National Agricultural Library in Beltsville\, Maryland\, contains 7\,497 watercolor paintings\, 87 line drawings\, and 79 wax models created by approximately 21 artists. \nUSDA botanists introduced thousands of plants and fruits through exploration around the globe in an effort to advance agricultural endeavors in the United States. Additionally as people across the country created new cultivars\, or varieties\, through hybridization\, the US Department of Agriculture set out to document them with a national register of fruits. The paintings indirectly became a way of patenting discoveries and inventions through breeding before a formal patent system existed in the US. \nIn order to ensure color accuracy\, watercolor—rather than photography—was the preferred medium. These technically precise paintings were used to create lithographs illustrating USDA bulletins\, yearbooks\, and other series distributed to growers and gardeners across America.\nThese valuable paintings represent the rich history of fruit development and introduction to the US. Today the pomological watercolors are used by historians and fruit explorers to identify fruit based upon phenotypical characteristics in an effort to identify fruit trees and possibly rediscover lost heirlooms. \nThe meeting will be held on ZOOM and by phone from 6:30 p.m. to 8 p.m. Central time. This virtual NAFEX Townhall Meetup is FREE with your $19 NAFEX membership. Find the ZOOM link and call-in numbers in your inbox or on our member Interest Group page. Plan to join us! \nNot a member yet? Join for $19/yr and get access to this ZOOM meetup and all past recorded meetings and conference settings! www.nafex.org
URL:https://nafex.org/index.php/event/usda-pomological-paintings-history-and-uses/
LOCATION:ZOOM
CATEGORIES:Fruit Interest Group Meetings
ATTACH;FMTTYPE=image/jpeg:https://nafex.org/wp-content/uploads/2025/06/PomologicalPaintingsSquare.jpg
END:VEVENT
END:VCALENDAR