BEGIN:VCALENDAR
VERSION:2.0
PRODID:-//NAFEX - ECPv6.15.20//NONSGML v1.0//EN
CALSCALE:GREGORIAN
METHOD:PUBLISH
X-WR-CALNAME:NAFEX
X-ORIGINAL-URL:https://nafex.org
X-WR-CALDESC:Events for NAFEX
REFRESH-INTERVAL;VALUE=DURATION:PT1H
X-Robots-Tag:noindex
X-PUBLISHED-TTL:PT1H
BEGIN:VTIMEZONE
TZID:America/New_York
BEGIN:DAYLIGHT
TZOFFSETFROM:-0500
TZOFFSETTO:-0400
TZNAME:EDT
DTSTART:20240310T070000
END:DAYLIGHT
BEGIN:STANDARD
TZOFFSETFROM:-0400
TZOFFSETTO:-0500
TZNAME:EST
DTSTART:20241103T060000
END:STANDARD
BEGIN:DAYLIGHT
TZOFFSETFROM:-0500
TZOFFSETTO:-0400
TZNAME:EDT
DTSTART:20250309T070000
END:DAYLIGHT
BEGIN:STANDARD
TZOFFSETFROM:-0400
TZOFFSETTO:-0500
TZNAME:EST
DTSTART:20251102T060000
END:STANDARD
BEGIN:DAYLIGHT
TZOFFSETFROM:-0500
TZOFFSETTO:-0400
TZNAME:EDT
DTSTART:20260308T070000
END:DAYLIGHT
BEGIN:STANDARD
TZOFFSETFROM:-0400
TZOFFSETTO:-0500
TZNAME:EST
DTSTART:20261101T060000
END:STANDARD
END:VTIMEZONE
BEGIN:VEVENT
DTSTART;TZID=America/New_York:20250729T193000
DTEND;TZID=America/New_York:20250729T210000
DTSTAMP:20260424T024735
CREATED:20250727T144329Z
LAST-MODIFIED:20250727T144329Z
UID:5242-1753817400-1753822800@nafex.org
SUMMARY:Orchard Resilience Through Homegrown Soil Fertility
DESCRIPTION:Join us July 29th for a discussion with NAFEX Board member Ryan Watson who also works at the Giving Grove. He will be talking with us about improving soil fertility for tree health and also give us some background into the Giving Grove. \nThe meeting will be held on ZOOM and by phone from 6:30 p.m. to 8 p.m. Central time. This virtual NAFEX Townhall Meetup is FREE with your $19 NAFEX membership. Find the ZOOM link and call-in numbers in your inbox or on our member Interest Group page. Plan to join us! \nNot a member yet? Join for $19/yr and get access to this ZOOM meetup and all past recorded meetings and conference settings! www.nafex.org
URL:https://nafex.org/index.php/event/orchard-resilience-through-homegrown-soil-fertility/
LOCATION:ZOOM
CATEGORIES:Fruit Interest Group Meetings
ATTACH;FMTTYPE=image/png:https://nafex.org/wp-content/uploads/2025/07/Soil-Fertility-Facebook-Post-FB.png
END:VEVENT
END:VCALENDAR