BEGIN:VCALENDAR
VERSION:2.0
PRODID:-//NAFEX - ECPv6.15.20//NONSGML v1.0//EN
CALSCALE:GREGORIAN
METHOD:PUBLISH
X-WR-CALNAME:NAFEX
X-ORIGINAL-URL:https://nafex.org
X-WR-CALDESC:Events for NAFEX
REFRESH-INTERVAL;VALUE=DURATION:PT1H
X-Robots-Tag:noindex
X-PUBLISHED-TTL:PT1H
BEGIN:VTIMEZONE
TZID:America/Indiana/Indianapolis
BEGIN:DAYLIGHT
TZOFFSETFROM:-0500
TZOFFSETTO:-0400
TZNAME:EDT
DTSTART:20230312T070000
END:DAYLIGHT
BEGIN:STANDARD
TZOFFSETFROM:-0400
TZOFFSETTO:-0500
TZNAME:EST
DTSTART:20231105T060000
END:STANDARD
BEGIN:DAYLIGHT
TZOFFSETFROM:-0500
TZOFFSETTO:-0400
TZNAME:EDT
DTSTART:20240310T070000
END:DAYLIGHT
BEGIN:STANDARD
TZOFFSETFROM:-0400
TZOFFSETTO:-0500
TZNAME:EST
DTSTART:20241103T060000
END:STANDARD
BEGIN:DAYLIGHT
TZOFFSETFROM:-0500
TZOFFSETTO:-0400
TZNAME:EDT
DTSTART:20250309T070000
END:DAYLIGHT
BEGIN:STANDARD
TZOFFSETFROM:-0400
TZOFFSETTO:-0500
TZNAME:EST
DTSTART:20251102T060000
END:STANDARD
END:VTIMEZONE
BEGIN:VEVENT
DTSTART;VALUE=DATE:20241107
DTEND;VALUE=DATE:20241110
DTSTAMP:20260425T094238
CREATED:20241029T015228Z
LAST-MODIFIED:20241029T015228Z
UID:4950-1730937600-1731196799@nafex.org
SUMMARY:NAFEX 2024 Virtual Conference
DESCRIPTION:Save the dates and plan to join the North American Fruit Explorers for the NAFEX 2024 Virtual Conference\, featuring three days of inspiring and informative online sessions for fruit growers\, November 7-9\, via ZOOM or by phone. \nAuthor Helen Atthowe will deliver the keynote address. The conference\, which is open to fruit growers of all experience levels\, will feature 8 interactive sessions and 10 speakers over 3 days. Participate and ask questions in real time or watch the recordings later. \nConference Session Dates and Times \nThursday\, Nov. 7 at 5 p.m. and 7 p.m. Eastern\nFriday\, Nov. 8 at 12 p.m.\, 2 p.m.\, 5 p.m. and 7 p.m. Eastern\nSaturday\, Nov. 9 at Noon and 2 p.m. Eastern \nSpeakers and Session Topics \nCheck out the full lineup of speakers and topics on our conference webpage. \nRegistration and Cost \nMembers: This live conference (and recordings) is FREE for current NAFEX members. Members will receive email updates with conference notices and links. Not sure if your membership is current? Check the status of your NAFEX membership here. \nNon-members: The conference is only $19 and you’ll receive full conference access plus full member benefits for one year! We invite you to join today.
URL:https://nafex.org/index.php/event/nafex-2024-virtual-conference/
LOCATION:ZOOM
CATEGORIES:Annual Meeting/Conference
ATTACH;FMTTYPE=image/png:https://nafex.org/wp-content/uploads/2024/10/NAFEX-2024-CONF-SQ-OVERVIEW.png
END:VEVENT
END:VCALENDAR