BEGIN:VCALENDAR
VERSION:2.0
PRODID:-//NAFEX - ECPv6.15.20//NONSGML v1.0//EN
CALSCALE:GREGORIAN
METHOD:PUBLISH
X-WR-CALNAME:NAFEX
X-ORIGINAL-URL:https://nafex.org
X-WR-CALDESC:Events for NAFEX
REFRESH-INTERVAL;VALUE=DURATION:PT1H
X-Robots-Tag:noindex
X-PUBLISHED-TTL:PT1H
BEGIN:VTIMEZONE
TZID:America/Indiana/Indianapolis
BEGIN:DAYLIGHT
TZOFFSETFROM:-0500
TZOFFSETTO:-0400
TZNAME:EDT
DTSTART:20230312T070000
END:DAYLIGHT
BEGIN:STANDARD
TZOFFSETFROM:-0400
TZOFFSETTO:-0500
TZNAME:EST
DTSTART:20231105T060000
END:STANDARD
BEGIN:DAYLIGHT
TZOFFSETFROM:-0500
TZOFFSETTO:-0400
TZNAME:EDT
DTSTART:20240310T070000
END:DAYLIGHT
BEGIN:STANDARD
TZOFFSETFROM:-0400
TZOFFSETTO:-0500
TZNAME:EST
DTSTART:20241103T060000
END:STANDARD
BEGIN:DAYLIGHT
TZOFFSETFROM:-0500
TZOFFSETTO:-0400
TZNAME:EDT
DTSTART:20250309T070000
END:DAYLIGHT
BEGIN:STANDARD
TZOFFSETFROM:-0400
TZOFFSETTO:-0500
TZNAME:EST
DTSTART:20251102T060000
END:STANDARD
END:VTIMEZONE
BEGIN:VEVENT
DTSTART;TZID=America/Indiana/Indianapolis:20241108T133000
DTEND;TZID=America/Indiana/Indianapolis:20241108T150000
DTSTAMP:20260425T221726
CREATED:20241029T013107Z
LAST-MODIFIED:20241029T013205Z
UID:4937-1731072600-1731078000@nafex.org
SUMMARY:Project Pawpaw - NAFEX 2024 Virtual Conference\, Session 4
DESCRIPTION:Adam D’Angelo of Project Pawpaw will introduce us to the future of sustainable agriculture via the pawpaw! \nWhat’s Project Pawpaw?\nProject Pawpaw is a collaborative effort to develop varieties of pawpaw (Asimina triloba) that better meet the needs of both farmers and consumers. They aim to develop new cultivars of pawpaws which taste great\, grow well\, and have a longer shelf life. Their work is entirely crowdfunded – all of their funding comes from the sale of products through our online store and at in-person events. This funding structure gives them the agility to explore new areas of scientific inquiry while also keeping them efficient.\nJoin us to hear what may be happening with Pawpaws in the near future! \n— \nThis interactive webinar is part of the North American Fruit Explorers (NAFEX) 2024 Virtual Conference\, featuring three days of inspiring and informative online sessions for fruit growers\, November 7-9\, via ZOOM or by phone. Participate and ask questions in real time or watch the recorded sessions later. \nThe conference is open to fruit growers of all experience levels and will feature 8 sessions and 10 speakers over 3 days. Plan to join us! \nConference Session Dates and Times \nThursday\, Nov. 7 at 5 p.m. and 6:30 p.m. Eastern\nFriday\, Nov. 8 at 11 a.m.\, 1:30 p.m.\, 4 p.m. and 6:30 p.m. Eastern\nSaturday\, Nov. 9 at 1:30 p.m. and 4 p.m. Eastern \nSpeakers and Session Topics \nCheck out the full lineup of speakers and topics on our conference webpage. \nRegistration and Cost \nMembers: This live conference (and recordings) is FREE for current NAFEX members. Members will receive email updates with conference notices and links. Not sure if your membership is current? Check the status of your NAFEX membership here. \nNon-members: The conference is only $19 and you’ll receive full conference access plus full member benefits for one year! We invite you to join today.
URL:https://nafex.org/index.php/event/project-pawpaw-nafex-2024-virtual-conference-session-4/
LOCATION:ZOOM
CATEGORIES:Annual Meeting/Conference
ATTACH;FMTTYPE=image/png:https://nafex.org/wp-content/uploads/2024/10/DAngelo_ProjectPawpaw.png
END:VEVENT
END:VCALENDAR