BEGIN:VCALENDAR
VERSION:2.0
PRODID:-//NAFEX - ECPv6.15.20//NONSGML v1.0//EN
CALSCALE:GREGORIAN
METHOD:PUBLISH
X-ORIGINAL-URL:https://nafex.org
X-WR-CALDESC:Events for NAFEX
REFRESH-INTERVAL;VALUE=DURATION:PT1H
X-Robots-Tag:noindex
X-PUBLISHED-TTL:PT1H
BEGIN:VTIMEZONE
TZID:America/New_York
BEGIN:DAYLIGHT
TZOFFSETFROM:-0500
TZOFFSETTO:-0400
TZNAME:EDT
DTSTART:20230312T070000
END:DAYLIGHT
BEGIN:STANDARD
TZOFFSETFROM:-0400
TZOFFSETTO:-0500
TZNAME:EST
DTSTART:20231105T060000
END:STANDARD
BEGIN:DAYLIGHT
TZOFFSETFROM:-0500
TZOFFSETTO:-0400
TZNAME:EDT
DTSTART:20240310T070000
END:DAYLIGHT
BEGIN:STANDARD
TZOFFSETFROM:-0400
TZOFFSETTO:-0500
TZNAME:EST
DTSTART:20241103T060000
END:STANDARD
BEGIN:DAYLIGHT
TZOFFSETFROM:-0500
TZOFFSETTO:-0400
TZNAME:EDT
DTSTART:20250309T070000
END:DAYLIGHT
BEGIN:STANDARD
TZOFFSETFROM:-0400
TZOFFSETTO:-0500
TZNAME:EST
DTSTART:20251102T060000
END:STANDARD
END:VTIMEZONE
BEGIN:VEVENT
DTSTART;TZID=America/New_York:20240326T193000
DTEND;TZID=America/New_York:20240326T210000
DTSTAMP:20260425T123738
CREATED:20240314T191309Z
LAST-MODIFIED:20240314T191309Z
UID:4656-1711481400-1711486800@nafex.org
SUMMARY:Future Apples and Pears - A Virtual Interest Group Meeting
DESCRIPTION:Are you curious about what’s going on in the world of apple breeding besides crispy apples? Maybe the future releases of a 100 year old pear breeding program peak your interest? Either way join us on March 26th as Christopher Gottschalk\, Ph.D. of the USDA ARS Appalachian Fruit Research Station discusses these topics and more. \nThe meeting will be held on ZOOM and by phone from 6:30 p.m. to 8 p.m. Central time. This virtual NAFEX Interest Group meeting is FREE with your $19 NAFEX membership. Find the ZOOM link and call-in numbers in your inbox or on our member Interest Group page. Plan to join us!
URL:https://nafex.org/index.php/event/future-apples-and-pears-a-virtual-interest-group-meeting/
LOCATION:ZOOM
CATEGORIES:Fruit Interest Group Meetings
ATTACH;FMTTYPE=image/png:https://nafex.org/wp-content/uploads/2024/03/Future-Apples-Pears-IG-Square-.png
END:VEVENT
END:VCALENDAR